BEGIN:VCALENDAR
VERSION:2.0
PRODID:icalendar-ruby
CALSCALE:GREGORIAN
METHOD:PUBLISH
BEGIN:VEVENT
DTSTAMP:20260419T124255Z
UID:78b2d757-a02f-4719-a6bc-606e96204ae9
DTSTART;VALUE=DATE:20040608
DTEND;VALUE=DATE:20040608
DESCRIPTION:Brighton BMX
LOCATION:414 N Maple St  Brighton IL 62012 USA
SUMMARY:Standard Single
URL:/site/bmx_races/215509
END:VEVENT
END:VCALENDAR
