BEGIN:VCALENDAR
VERSION:2.0
PRODID:icalendar-ruby
CALSCALE:GREGORIAN
METHOD:PUBLISH
BEGIN:VEVENT
DTSTAMP:20260420T092056Z
UID:af59d926-0b72-4350-8340-102a0190da46
DTSTART;VALUE=DATE:20040904
DTEND;VALUE=DATE:20040904
DESCRIPTION:Whip City BMX
LOCATION:137 Russellville Road Westfield  Westfield MA 1085 USA
SUMMARY:Final Triple
URL:/site/bmx_races/211808
END:VEVENT
END:VCALENDAR
