BEGIN:VCALENDAR
VERSION:2.0
PRODID:icalendar-ruby
CALSCALE:GREGORIAN
METHOD:PUBLISH
BEGIN:VEVENT
DTSTAMP:20260419T141426Z
UID:8205c238-e8e3-46f9-9cf1-c14b1e5104d4
DTSTART;VALUE=DATE:20040522
DTEND;VALUE=DATE:20040522
DESCRIPTION:Brighton BMX
LOCATION:414 N Maple St  Brighton IL 62012 USA
SUMMARY:Race For Life Double
URL:/site/bmx_races/208978
END:VEVENT
END:VCALENDAR
