BEGIN:VCALENDAR
VERSION:2.0
PRODID:icalendar-ruby
CALSCALE:GREGORIAN
METHOD:PUBLISH
BEGIN:VEVENT
DTSTAMP:20260424T154708Z
UID:d8227d5b-d6c6-456a-9cbd-069e924e5449
DTSTART;VALUE=DATE:20040717
DTEND;VALUE=DATE:20040717
DESCRIPTION:Reno Battleborn BMX
LOCATION:Sun Valley Gid Community Park 115 W 6th Ave Sun Valley NV 89433 US
 A
SUMMARY:Standard Double
URL:/site/bmx_races/208168
END:VEVENT
END:VCALENDAR
