BEGIN:VCALENDAR
VERSION:2.0
PRODID:icalendar-ruby
CALSCALE:GREGORIAN
METHOD:PUBLISH
BEGIN:VEVENT
DTSTAMP:20260424T092520Z
UID:353193a5-cb8a-4067-b601-26fe0d1e835d
DTSTART;VALUE=DATE:20040531
DTEND;VALUE=DATE:20040531
DESCRIPTION:Spokes BMX
LOCATION: 2550 W Bennett  Springfield MO 65807 USA
SUMMARY:Standard Double
URL:/site/bmx_races/207995
END:VEVENT
END:VCALENDAR
