BEGIN:VCALENDAR
VERSION:2.0
PRODID:icalendar-ruby
CALSCALE:GREGORIAN
METHOD:PUBLISH
BEGIN:VEVENT
DTSTAMP:20260425T214809Z
UID:66c4c650-651b-4243-b7af-2f399d6ca824
DTSTART;VALUE=DATE:20050717
DTEND;VALUE=DATE:20050717
DESCRIPTION:Burlington BMX
LOCATION:1450 Graham Street  Burlington NC 27217 USA
SUMMARY:Qualifier Triple
URL:/site/bmx_races/164178
END:VEVENT
END:VCALENDAR
