BEGIN:VCALENDAR
VERSION:2.0
PRODID:icalendar-ruby
CALSCALE:GREGORIAN
METHOD:PUBLISH
BEGIN:VEVENT
DTSTAMP:20260419T163438Z
UID:37387713-ffbc-4b0e-a5bc-dab6e2774cf6
DTSTART;VALUE=DATE:20050902
DTEND;VALUE=DATE:20050902
DESCRIPTION:Whip City BMX
LOCATION:137 Russellville Road Westfield  Westfield MA 1085 USA
SUMMARY:Standard Double
URL:/site/bmx_races/159402
END:VEVENT
END:VCALENDAR
