BEGIN:VCALENDAR
VERSION:2.0
PRODID:icalendar-ruby
CALSCALE:GREGORIAN
METHOD:PUBLISH
BEGIN:VEVENT
DTSTAMP:20260424T104310Z
UID:18a3fc3f-4b4a-4be9-a8ea-f7dda3efeb60
DTSTART;VALUE=DATE:20050821
DTEND;VALUE=DATE:20050821
DESCRIPTION:Southern Maryland BMX
LOCATION:26600 Budds Creek Rd  Mechanicsville MD 20659 USA
SUMMARY:Standard Double
URL:/site/bmx_races/155998
END:VEVENT
END:VCALENDAR
