BEGIN:VCALENDAR
VERSION:2.0
PRODID:icalendar-ruby
CALSCALE:GREGORIAN
METHOD:PUBLISH
BEGIN:VEVENT
DTSTAMP:20260424T105907Z
UID:29386d93-6536-493e-bd54-a125e7e3ba7f
DTSTART;VALUE=DATE:20070208
DTEND;VALUE=DATE:20070208
DESCRIPTION:Steel Wheels Indoor BMX
LOCATION:709 N Hobart Rd  Hobart IN 46350 USA
SUMMARY:Standard Single
URL:/site/bmx_races/138144
END:VEVENT
END:VCALENDAR
