BEGIN:VCALENDAR
VERSION:2.0
PRODID:icalendar-ruby
CALSCALE:GREGORIAN
METHOD:PUBLISH
BEGIN:VEVENT
DTSTAMP:20260425T125452Z
UID:1e66293f-b119-4e64-8608-f388ecd194e5
DTSTART;VALUE=DATE:20080727
DTEND;VALUE=DATE:20080727
DESCRIPTION:Noonday BMX
LOCATION:547 Shallowford Rd Ne  Marietta GA 30144 USA
SUMMARY:Qualifier Triple
URL:/site/bmx_races/132280
END:VEVENT
END:VCALENDAR
