BEGIN:VCALENDAR
VERSION:2.0
PRODID:icalendar-ruby
CALSCALE:GREGORIAN
METHOD:PUBLISH
BEGIN:VEVENT
DTSTAMP:20260425T010901Z
UID:21b11ede-bdd4-479e-a9d7-0e643b17bf43
DTSTART;VALUE=DATE:20081003
DTEND;VALUE=DATE:20081003
DESCRIPTION:Emery Park BMX
LOCATION:2339 E Mac Arthur Rd  Wichita KS 67216 USA
SUMMARY:Standard Single
URL:/site/bmx_races/132173
END:VEVENT
END:VCALENDAR
