BEGIN:VCALENDAR
VERSION:2.0
PRODID:icalendar-ruby
CALSCALE:GREGORIAN
METHOD:PUBLISH
BEGIN:VEVENT
DTSTAMP:20260424T234133Z
UID:88be5ee3-f572-4128-bb73-ae090a9946d3
DTSTART;VALUE=DATE:20080629
DTEND;VALUE=DATE:20080629
DESCRIPTION:Noonday BMX
LOCATION:547 Shallowford Rd Ne  Marietta GA 30144 USA
SUMMARY:Race For Life Double
URL:/site/bmx_races/131998
END:VEVENT
END:VCALENDAR
