BEGIN:VCALENDAR
VERSION:2.0
PRODID:icalendar-ruby
CALSCALE:GREGORIAN
METHOD:PUBLISH
BEGIN:VEVENT
DTSTAMP:20260424T093708Z
UID:c2d1ed2a-c868-4b93-a6ea-2ac6298fadc0
DTSTART;VALUE=DATE:20080913
DTEND;VALUE=DATE:20080913
DESCRIPTION:Chandler BMX
LOCATION:298 S Mc Queen Rd  Chandler AZ 85225 USA
SUMMARY:Standard Double
URL:/site/bmx_races/131425
END:VEVENT
END:VCALENDAR
