BEGIN:VCALENDAR
VERSION:2.0
PRODID:icalendar-ruby
CALSCALE:GREGORIAN
METHOD:PUBLISH
BEGIN:VEVENT
DTSTAMP:20260424T234130Z
UID:2e64d691-8903-46a5-adc9-2910e3210188
DTSTART;VALUE=DATE:20080719
DTEND;VALUE=DATE:20080719
DESCRIPTION:Oldsmar BMX Supercross
LOCATION:Oldsmar Sports Complex 3120 Tampa Road Oldsmar FL 34677 USA
SUMMARY:Standard Single
URL:/site/bmx_races/129544
END:VEVENT
END:VCALENDAR
