BEGIN:VCALENDAR
VERSION:2.0
PRODID:icalendar-ruby
CALSCALE:GREGORIAN
METHOD:PUBLISH
BEGIN:VEVENT
DTSTAMP:20260426T023255Z
UID:92057b34-ab2b-4d24-a59c-7a6b5f101b49
DTSTART;VALUE=DATE:20090814
DTEND;VALUE=DATE:20090814
DESCRIPTION:Cowtown BMX
LOCATION:447 Haltom Rd  Ft. Worth TX 76117 USA
SUMMARY:Standard Single
URL:/site/bmx_races/128591
END:VEVENT
END:VCALENDAR
