BEGIN:VCALENDAR
VERSION:2.0
PRODID:icalendar-ruby
CALSCALE:GREGORIAN
METHOD:PUBLISH
BEGIN:VEVENT
DTSTAMP:20260425T131325Z
UID:a13cd4a2-d5f9-4652-9655-d9e7e0c5f18d
DTSTART;VALUE=DATE:20090607
DTEND;VALUE=DATE:20090607
DESCRIPTION:Cherry Hill Park BMX
LOCATION:1727 N 15th St  Coeur D`Alene ID 83814 USA
SUMMARY:Standard Double
URL:/site/bmx_races/127196
END:VEVENT
END:VCALENDAR
