BEGIN:VCALENDAR
VERSION:2.0
PRODID:icalendar-ruby
CALSCALE:GREGORIAN
METHOD:PUBLISH
BEGIN:VEVENT
DTSTAMP:20260424T192140Z
UID:078fab51-3da3-4002-8fda-858b87b21e95
DTSTART;VALUE=DATE:20090517
DTEND;VALUE=DATE:20090517
DESCRIPTION:Boomtown BMX
LOCATION:17760 Shasta Dam Blvd  Shasta Lake CA 96019 USA
SUMMARY:Standard Double
URL:/site/bmx_races/126229
END:VEVENT
END:VCALENDAR
