BEGIN:VCALENDAR
VERSION:2.0
PRODID:icalendar-ruby
CALSCALE:GREGORIAN
METHOD:PUBLISH
BEGIN:VEVENT
DTSTAMP:20260424T091957Z
UID:b1ec164f-b119-420d-9dbf-9cb6fe370e93
DTSTART;VALUE=DATE:20090920
DTEND;VALUE=DATE:20090920
DESCRIPTION:Imagination Glen BMX
LOCATION:2190 N State Rd 149  Portage IN 46304 USA
SUMMARY:Final Triple
URL:/site/bmx_races/123979
END:VEVENT
END:VCALENDAR
