BEGIN:VCALENDAR
VERSION:2.0
PRODID:icalendar-ruby
CALSCALE:GREGORIAN
METHOD:PUBLISH
BEGIN:VEVENT
DTSTAMP:20260425T171922Z
UID:d8037546-d7d5-4e42-9e8a-07d3d421163d
DTSTART;VALUE=DATE:20090801
DTEND;VALUE=DATE:20090801
DESCRIPTION:Bellflower BMX
LOCATION:9030 Somerset Blvd  Bellflower CA 90706 USA
SUMMARY:Standard Double
URL:/site/bmx_races/122370
END:VEVENT
END:VCALENDAR
