BEGIN:VCALENDAR
VERSION:2.0
PRODID:icalendar-ruby
CALSCALE:GREGORIAN
METHOD:PUBLISH
BEGIN:VEVENT
DTSTAMP:20260426T032335Z
UID:f315684e-a942-49a8-b7aa-54181bb064ba
DTSTART;VALUE=DATE:20090828
DTEND;VALUE=DATE:20090828
DESCRIPTION:Duke City BMX
LOCATION:1011 Buena Vista Dr Se  Albuquerque NM 87106 USA
SUMMARY:Standard Single
URL:/site/bmx_races/121697
END:VEVENT
END:VCALENDAR
