BEGIN:VCALENDAR
VERSION:2.0
PRODID:icalendar-ruby
CALSCALE:GREGORIAN
METHOD:PUBLISH
BEGIN:VEVENT
DTSTAMP:20260424T131241Z
UID:470fd3e9-3083-48e8-8f18-337eb6688c7a
DTSTART;VALUE=DATE:20100605
DTEND;VALUE=DATE:20100605
DESCRIPTION:Omaha BMX
LOCATION:11111 W Maple Rd  Omaha NE 68164 USA
SUMMARY:Standard Double
URL:/site/bmx_races/119963
END:VEVENT
END:VCALENDAR
