BEGIN:VCALENDAR
VERSION:2.0
PRODID:icalendar-ruby
CALSCALE:GREGORIAN
METHOD:PUBLISH
BEGIN:VEVENT
DTSTAMP:20260425T174031Z
UID:b2f123d1-fb0f-4630-8d8e-4e0bdee39f20
DTSTART;VALUE=DATE:20100919
DTEND;VALUE=DATE:20100919
DESCRIPTION:Noonday BMX
LOCATION:547 Shallowford Rd Ne  Marietta GA 30144 USA
SUMMARY:Standard Single
URL:/site/bmx_races/119423
END:VEVENT
END:VCALENDAR
