BEGIN:VCALENDAR
VERSION:2.0
PRODID:icalendar-ruby
CALSCALE:GREGORIAN
METHOD:PUBLISH
BEGIN:VEVENT
DTSTAMP:20260424T143925Z
UID:623a9609-6913-4d7d-9010-bb2f9cdc3cc3
DTSTART;VALUE=DATE:20100823
DTEND;VALUE=DATE:20100823
DESCRIPTION:Squamish BMX Racing Track
LOCATION:1009 Centennial Way  Squamish BC V0N1T0 CAN
SUMMARY:Standard Single
URL:/site/bmx_races/118718
END:VEVENT
END:VCALENDAR
