BEGIN:VCALENDAR
VERSION:2.0
PRODID:icalendar-ruby
CALSCALE:GREGORIAN
METHOD:PUBLISH
BEGIN:VEVENT
DTSTAMP:20260425T025511Z
UID:fc12fe9d-ad88-4828-b3a3-c606c7b57d7e
DTSTART;VALUE=DATE:20100629
DTEND;VALUE=DATE:20100629
DESCRIPTION:Cobb County BMX
LOCATION:3820 Macedonia Rd  Powder Springs GA 30127 USA
SUMMARY:Standard Single
URL:/site/bmx_races/117327
END:VEVENT
END:VCALENDAR
