BEGIN:VCALENDAR
VERSION:2.0
PRODID:icalendar-ruby
CALSCALE:GREGORIAN
METHOD:PUBLISH
BEGIN:VEVENT
DTSTAMP:20260425T024656Z
UID:fe4771f9-e5cf-43f6-9251-b20a14977948
DTSTART;VALUE=DATE:20101030
DTEND;VALUE=DATE:20101030
DESCRIPTION:Spartanburg BMX
LOCATION:1160 Old Furnace Rd  Boiling Springs SC 29316 USA
SUMMARY:Standard Single
URL:/site/bmx_races/115646
END:VEVENT
END:VCALENDAR
