BEGIN:VCALENDAR
VERSION:2.0
PRODID:icalendar-ruby
CALSCALE:GREGORIAN
METHOD:PUBLISH
BEGIN:VEVENT
DTSTAMP:20260425T214820Z
UID:c0ac8c2a-6ca4-4dc8-a650-952412f5a6a2
DTSTART;VALUE=DATE:20100720
DTEND;VALUE=DATE:20100720
DESCRIPTION:Lakes Area BMX
LOCATION:10415 Town Hall Street  Brainerd MN 56401 USA
SUMMARY:Race For Life Single
URL:/site/bmx_races/115380
END:VEVENT
END:VCALENDAR
