BEGIN:VCALENDAR
VERSION:2.0
PRODID:icalendar-ruby
CALSCALE:GREGORIAN
METHOD:PUBLISH
BEGIN:VEVENT
DTSTAMP:20260424T160918Z
UID:dec85cf7-912e-4a54-84f1-d4cbc6a13640
DTSTART;VALUE=DATE:20100927
DTEND;VALUE=DATE:20100927
DESCRIPTION:Squamish BMX Racing Track
LOCATION:1009 Centennial Way  Squamish BC V0N1T0 CAN
SUMMARY:Standard Single
URL:/site/bmx_races/115198
END:VEVENT
END:VCALENDAR
