BEGIN:VCALENDAR
VERSION:2.0
PRODID:icalendar-ruby
CALSCALE:GREGORIAN
METHOD:PUBLISH
BEGIN:VEVENT
DTSTAMP:20260425T142039Z
UID:921293ac-67c7-43d5-aead-a59b7cde898f
DTSTART;VALUE=DATE:20100905
DTEND;VALUE=DATE:20100905
DESCRIPTION:Emery Park BMX
LOCATION:2339 E Mac Arthur Rd  Wichita KS 67216 USA
SUMMARY:Final Triple
URL:/site/bmx_races/112915
END:VEVENT
END:VCALENDAR
