BEGIN:VCALENDAR
VERSION:2.0
PRODID:icalendar-ruby
CALSCALE:GREGORIAN
METHOD:PUBLISH
BEGIN:VEVENT
DTSTAMP:20260425T231547Z
UID:2bdddd59-07bc-47ad-a537-0cdd64dd0e45
DTSTART;VALUE=DATE:20100829
DTEND;VALUE=DATE:20100829
DESCRIPTION:Razor City BMX
LOCATION:200 Pumphouse Ln  Gillette WY 82716 USA
SUMMARY:Final Triple
URL:/site/bmx_races/111885
END:VEVENT
END:VCALENDAR
