BEGIN:VCALENDAR
VERSION:2.0
PRODID:icalendar-ruby
CALSCALE:GREGORIAN
METHOD:PUBLISH
BEGIN:VEVENT
DTSTAMP:20260424T135104Z
UID:fd7b5674-b90c-433a-bbd2-817ce06931d1
DTSTART;VALUE=DATE:20110507
DTEND;VALUE=DATE:20110507
DESCRIPTION:Desert Downs BMX
LOCATION:8801 Railroad  El Paso TX 79924 USA
SUMMARY:Qualifier Triple
URL:/site/bmx_races/110849
END:VEVENT
END:VCALENDAR
