BEGIN:VCALENDAR
VERSION:2.0
PRODID:icalendar-ruby
CALSCALE:GREGORIAN
METHOD:PUBLISH
BEGIN:VEVENT
DTSTAMP:20260425T142100Z
UID:268a7382-7922-4a01-a0f0-43a5476d2d6e
DTSTART;VALUE=DATE:20110304
DTEND;VALUE=DATE:20110304
DESCRIPTION:Rincon BMX Star Track
LOCATION:  Rincon PR 677 USA
SUMMARY:Standard Single
URL:/site/bmx_races/110459
END:VEVENT
END:VCALENDAR
