BEGIN:VCALENDAR
VERSION:2.0
PRODID:icalendar-ruby
CALSCALE:GREGORIAN
METHOD:PUBLISH
BEGIN:VEVENT
DTSTAMP:20260425T231017Z
UID:46ed01bd-295f-42f0-9fc4-40ad8ec9acd7
DTSTART;VALUE=DATE:20110324
DTEND;VALUE=DATE:20110324
DESCRIPTION:Ed Fountain Park BMX Raceway
LOCATION:1400 N Decatur Blvd  Las Vegas NV 89108 USA
SUMMARY:Standard Single
URL:/site/bmx_races/110361
END:VEVENT
END:VCALENDAR
