BEGIN:VCALENDAR
VERSION:2.0
PRODID:icalendar-ruby
CALSCALE:GREGORIAN
METHOD:PUBLISH
BEGIN:VEVENT
DTSTAMP:20260425T141946Z
UID:f43c38ca-1417-4484-9f0c-4ee6e6a434d3
DTSTART;VALUE=DATE:20111105
DTEND;VALUE=DATE:20111105
DESCRIPTION:EHT BMX
LOCATION:Veterans Memorial Park Ocean Heights Ave Egg Harbor Township NJ 08
 234 USA
SUMMARY:Standard Single
URL:/site/bmx_races/109645
END:VEVENT
END:VCALENDAR
