BEGIN:VCALENDAR
VERSION:2.0
PRODID:icalendar-ruby
CALSCALE:GREGORIAN
METHOD:PUBLISH
BEGIN:VEVENT
DTSTAMP:20260425T144303Z
UID:0beb6085-6255-4bf9-9ee5-008b23f353aa
DTSTART;VALUE=DATE:20110717
DTEND;VALUE=DATE:20110717
DESCRIPTION:Heartland BMX
LOCATION:4801 Sw Shunga Dr  Topeka KS 66614 USA
SUMMARY:Standard Triple
URL:/site/bmx_races/109611
END:VEVENT
END:VCALENDAR
