BEGIN:VCALENDAR
VERSION:2.0
PRODID:icalendar-ruby
CALSCALE:GREGORIAN
METHOD:PUBLISH
BEGIN:VEVENT
DTSTAMP:20260425T024618Z
UID:0ae56128-a088-489e-bd92-dd584844b16a
DTSTART;VALUE=DATE:20110423
DTEND;VALUE=DATE:20110423
DESCRIPTION:Whittier Narrows BMX
LOCATION:1601 N Rosemead Blvd  South El Monte CA 91733 USA
SUMMARY:Standard Single
URL:/site/bmx_races/109129
END:VEVENT
END:VCALENDAR
