BEGIN:VCALENDAR
VERSION:2.0
PRODID:icalendar-ruby
CALSCALE:GREGORIAN
METHOD:PUBLISH
BEGIN:VEVENT
DTSTAMP:20260424T234048Z
UID:20c4a043-8945-4292-8b1f-3cf18fd99c30
DTSTART;VALUE=DATE:20110804
DTEND;VALUE=DATE:20110804
DESCRIPTION:Eagle County BMX
LOCATION:1700 Bull Pasture Rd  Eagle CO 81631 USA
SUMMARY:Standard Single
URL:/site/bmx_races/108870
END:VEVENT
END:VCALENDAR
