BEGIN:VCALENDAR
VERSION:2.0
PRODID:icalendar-ruby
CALSCALE:GREGORIAN
METHOD:PUBLISH
BEGIN:VEVENT
DTSTAMP:20260424T091847Z
UID:9cb6959a-a021-4b02-91bf-cd0434597abc
DTSTART;VALUE=DATE:20110820
DTEND;VALUE=DATE:20110820
DESCRIPTION:Nanaimo BMX
LOCATION:2001 Labieux Road  Nanaimo BC V9T 3K7 CAN
SUMMARY:Standard Double
URL:/site/bmx_races/107569
END:VEVENT
END:VCALENDAR
