BEGIN:VCALENDAR
VERSION:2.0
PRODID:icalendar-ruby
CALSCALE:GREGORIAN
METHOD:PUBLISH
BEGIN:VEVENT
DTSTAMP:20260424T184707Z
UID:39ae3801-c6b7-493a-966d-3536a43feb0f
DTSTART;VALUE=DATE:20110703
DTEND;VALUE=DATE:20110703
DESCRIPTION:I-94 BMX
LOCATION:Delagoon Park 1941 Delagoon Park Dr Fergus Falls MN 56537 USA
SUMMARY:Standard Double
URL:/site/bmx_races/107030
END:VEVENT
END:VCALENDAR
