BEGIN:VCALENDAR
VERSION:2.0
PRODID:icalendar-ruby
CALSCALE:GREGORIAN
METHOD:PUBLISH
BEGIN:VEVENT
DTSTAMP:20260425T010744Z
UID:fd301bcd-3fa3-404c-93ee-7def07de09b1
DTSTART;VALUE=DATE:20111210
DTEND;VALUE=DATE:20111210
DESCRIPTION:Ed Fountain Park BMX Raceway
LOCATION:1400 N Decatur Blvd  Las Vegas NV 89108 USA
SUMMARY:Standard Double
URL:/site/bmx_races/106798
END:VEVENT
END:VCALENDAR
