BEGIN:VCALENDAR
VERSION:2.0
PRODID:icalendar-ruby
CALSCALE:GREGORIAN
METHOD:PUBLISH
BEGIN:VEVENT
DTSTAMP:20260424T184609Z
UID:d216f5d5-98a6-4ee4-bd71-ecbd3335a365
DTSTART;VALUE=DATE:20111002
DTEND;VALUE=DATE:20111002
DESCRIPTION:Nellis BMX
LOCATION:4949 E Cheyenne Ave  Las Vegas NV 89115 USA
SUMMARY:Standard Single
URL:/site/bmx_races/106476
END:VEVENT
END:VCALENDAR
