BEGIN:VCALENDAR
VERSION:2.0
PRODID:icalendar-ruby
CALSCALE:GREGORIAN
METHOD:PUBLISH
BEGIN:VEVENT
DTSTAMP:20260425T202108Z
UID:4c8867ae-c954-4b0d-b07e-6c73c6255f14
DTSTART;VALUE=DATE:20110327
DTEND;VALUE=DATE:20110327
DESCRIPTION:Cowtown BMX
LOCATION:447 Haltom Rd  Ft. Worth TX 76117 USA
SUMMARY:Standard Double
URL:/site/bmx_races/105944
END:VEVENT
END:VCALENDAR
