BEGIN:VCALENDAR
VERSION:2.0
PRODID:icalendar-ruby
CALSCALE:GREGORIAN
METHOD:PUBLISH
BEGIN:VEVENT
DTSTAMP:20260424T091938Z
UID:606eb878-85a1-479f-936c-f5f0c64041cb
DTSTART;VALUE=DATE:20111119
DTEND;VALUE=DATE:20111119
DESCRIPTION:Bellflower BMX
LOCATION:9030 Somerset Blvd  Bellflower CA 90706 USA
SUMMARY:Standard Double
URL:/site/bmx_races/105025
END:VEVENT
END:VCALENDAR
