BEGIN:VCALENDAR
VERSION:2.0
PRODID:icalendar-ruby
CALSCALE:GREGORIAN
METHOD:PUBLISH
BEGIN:VEVENT
DTSTAMP:20260425T221509Z
UID:e3e202d8-d97f-488a-903e-28622d823a6a
DTSTART;VALUE=DATE:20111023
DTEND;VALUE=DATE:20111023
DESCRIPTION:Chesapeake BMX
LOCATION:726 Donaldson Avenue  Severn MD 21144 USA
SUMMARY:Standard Single
URL:/site/bmx_races/104586
END:VEVENT
END:VCALENDAR
