BEGIN:VCALENDAR
VERSION:2.0
PRODID:icalendar-ruby
CALSCALE:GREGORIAN
METHOD:PUBLISH
BEGIN:VEVENT
DTSTAMP:20260424T220314Z
UID:7345b2d4-7421-45f0-9693-ba2ccbf5a2b8
DTSTART;VALUE=DATE:20110925
DTEND;VALUE=DATE:20110925
DESCRIPTION:Gretna BMX Raceway
LOCATION:800 Gretna Blvd  Gretna LA 70053 USA
SUMMARY:Final Triple
URL:/site/bmx_races/103065
END:VEVENT
END:VCALENDAR
