BEGIN:VCALENDAR
VERSION:2.0
PRODID:icalendar-ruby
CALSCALE:GREGORIAN
METHOD:PUBLISH
BEGIN:VEVENT
DTSTAMP:20260425T231648Z
UID:360c8f0a-84dc-44e7-a49e-755fdc52f80a
DTSTART;VALUE=DATE:20110414
DTEND;VALUE=DATE:20110414
DESCRIPTION:Ed Fountain Park BMX Raceway
LOCATION:1400 N Decatur Blvd  Las Vegas NV 89108 USA
SUMMARY:Standard Single
URL:/site/bmx_races/102512
END:VEVENT
END:VCALENDAR
