BEGIN:VCALENDAR
VERSION:2.0
PRODID:icalendar-ruby
CALSCALE:GREGORIAN
METHOD:PUBLISH
BEGIN:VEVENT
DTSTAMP:20260425T171905Z
UID:823223a2-268e-49bf-b8a1-79f168be9aeb
DTSTART;VALUE=DATE:20110528
DTEND;VALUE=DATE:20110528
DESCRIPTION:Burlington BMX
LOCATION:1450 Graham Street  Burlington NC 27217 USA
SUMMARY:Standard Triple
URL:/site/bmx_races/102447
END:VEVENT
END:VCALENDAR
