BEGIN:VCALENDAR
VERSION:2.0
PRODID:icalendar-ruby
CALSCALE:GREGORIAN
METHOD:PUBLISH
BEGIN:VEVENT
DTSTAMP:20260424T230059Z
UID:47587520-b274-43d4-8169-29dc5e8880b6
DTSTART;VALUE=DATE:20120531
DTEND;VALUE=DATE:20120531
DESCRIPTION:Sand Springs BMX
LOCATION:2600 S River City Park Rd  Sand Springs OK 74063 USA
SUMMARY:Standard Single
URL:/site/bmx_races/101130
END:VEVENT
END:VCALENDAR
