BEGIN:VCALENDAR
VERSION:2.0
PRODID:icalendar-ruby
CALSCALE:GREGORIAN
METHOD:PUBLISH
BEGIN:VEVENT
DTSTAMP:20260425T004216Z
UID:d2261ac3-d85e-445a-95df-7507f164a04d
DTSTART;VALUE=DATE:20121103
DTEND;VALUE=DATE:20121103
DESCRIPTION:Peachtree BMX
LOCATION:195 Mc Intosh Trail  Peachtree City GA 30269 USA
SUMMARY:Standard Single
URL:/site/bmx_races/101089
END:VEVENT
END:VCALENDAR
