BEGIN:VCALENDAR
VERSION:2.0
PRODID:icalendar-ruby
CALSCALE:GREGORIAN
METHOD:PUBLISH
BEGIN:VEVENT
DTSTAMP:20260425T214737Z
UID:c08112b9-baf7-4476-a71f-ccfbc1ed8a17
DTSTART;VALUE=DATE:20121114
DTEND;VALUE=DATE:20121114
DESCRIPTION:San Diego BMX
LOCATION:3170 Armstrong Street Behind Kearny Mesa Recreation Center San Die
 go CA 92111 USA
SUMMARY:Standard Single
URL:/site/bmx_races/100825
END:VEVENT
END:VCALENDAR
